BEGIN:VCALENDAR
VERSION:2.0
PRODID:-//The College of Psychiatrists of Ireland
CALSCALE:GREGORIAN
METHOD:PUBLISH
X-WR-CALNAME:The College of Psychiatrists of Ireland
X-ORIGINAL-URL:https://apps.irishpsychiatry.ie/product/rcsi-cpsychi-attachment-and-mental-health-lecture/
X-WR-CALDESC:RCSI &#038; CPsychI Attachment and Mental Health Lecture
BEGIN:VEVENT
DTSTART:20180628T153000
DTEND:20180628T173000
SUMMARY:RCSI &#038; CPsychI Attachment and Mental Health Lecture
DESCRIPTION:
LOCATION:123 St Stephen's Green, Dublin, Ireland
END:VEVENT
END:VCALENDAR
