BEGIN:VCALENDAR
VERSION:2.0
PRODID:-//The College of Psychiatrists of Ireland
CALSCALE:GREGORIAN
METHOD:PUBLISH
X-WR-CALNAME:The College of Psychiatrists of Ireland
X-ORIGINAL-URL:https://apps.irishpsychiatry.ie/product/professional-competence-committee-meeting-9/
X-WR-CALDESC:Professional Competence Committee Meeting.
BEGIN:VEVENT
DTSTART:20180906T110000
DTEND:20180906T130000
SUMMARY:Professional Competence Committee Meeting.
DESCRIPTION:
LOCATION:5 Herbert Street, Dublin 2, Ireland
END:VEVENT
END:VCALENDAR
