BEGIN:VCALENDAR
VERSION:2.0
PRODID:-//The College of Psychiatrists of Ireland
CALSCALE:GREGORIAN
METHOD:PUBLISH
X-WR-CALNAME:The College of Psychiatrists of Ireland
X-ORIGINAL-URL:https://apps.irishpsychiatry.ie/product/10469/
X-WR-CALDESC:Longford/Westmeath Mental Health Service &#8211; A Focus on Eating Disorders
BEGIN:VEVENT
DTSTART:20180907T093000
DTEND:20180907T130000
SUMMARY:Longford/Westmeath Mental Health Service &#8211; A Focus on Eating Disorders
DESCRIPTION:
LOCATION:Mullingar Park Hotel, Dublin Road, Marlinstown Bog, Mullingar, County Westmeath, Ireland
END:VEVENT
END:VCALENDAR
