BEGIN:VCALENDAR
VERSION:2.0
PRODID:-//The College of Psychiatrists of Ireland
CALSCALE:GREGORIAN
METHOD:PUBLISH
X-WR-CALNAME:The College of Psychiatrists of Ireland
X-ORIGINAL-URL:https://apps.irishpsychiatry.ie/product/youlead-1st-annual-youth-mental-heath-research-lunchtime-webinar-series/
X-WR-CALDESC:YOULEAD 1st Annual Youth Mental Heath Research Lunchtime Webinar Series
BEGIN:VEVENT
DTSTART:20201005T130000
DTEND:20201009T140000
SUMMARY:YOULEAD 1st Annual Youth Mental Heath Research Lunchtime Webinar Series
DESCRIPTION:
LOCATION:Webinar 
END:VEVENT
END:VCALENDAR
