BEGIN:VCALENDAR
VERSION:2.0
PRODID:-//The College of Psychiatrists of Ireland
CALSCALE:GREGORIAN
METHOD:PUBLISH
X-WR-CALNAME:The College of Psychiatrists of Ireland
X-ORIGINAL-URL:https://apps.irishpsychiatry.ie/product/hot-topics-in-psychiatry-dublin-september-2018/
X-WR-CALDESC:HOT TOPICS IN PSYCHIATRY DUBLIN – SEPTEMBER 2018
BEGIN:VEVENT
DTSTART:20180913T183000
DTEND:20180913T203000
SUMMARY:HOT TOPICS IN PSYCHIATRY DUBLIN – SEPTEMBER 2018
DESCRIPTION:
LOCATION:Ashling Hotel Dublin, Parkgate Street, Arran Quay, Dublin 8, Dublin, Ireland
END:VEVENT
END:VCALENDAR
