BEGIN:VCALENDAR
VERSION:2.0
PRODID:-//The College of Psychiatrists of Ireland
CALSCALE:GREGORIAN
METHOD:PUBLISH
X-WR-CALNAME:The College of Psychiatrists of Ireland
X-ORIGINAL-URL:https://apps.irishpsychiatry.ie/product/ados-2-training-for-the-clinical-setting-5/
X-WR-CALDESC:ADOS &#8211; 2 Training for the Clinical Setting
BEGIN:VEVENT
DTSTART:20180913T100000
DTEND:20180914T170000
SUMMARY:ADOS &#8211; 2 Training for the Clinical Setting
DESCRIPTION:
LOCATION:Trinity College Dublin, College Green, Dublin 2, Ireland
END:VEVENT
END:VCALENDAR
