BEGIN:VCALENDAR
VERSION:2.0
PRODID:-//The College of Psychiatrists of Ireland
CALSCALE:GREGORIAN
METHOD:PUBLISH
X-WR-CALNAME:The College of Psychiatrists of Ireland
X-ORIGINAL-URL:https://apps.irishpsychiatry.ie/product/asd-and-mental-health-masterclass/
X-WR-CALDESC:ASD and Mental Health Masterclass
BEGIN:VEVENT
DTSTART:20180907T000000
DTEND:20180907T000000
SUMMARY:ASD and Mental Health Masterclass
DESCRIPTION:
LOCATION:Spencer Hotel Dublin City, Excise Walk, IFSC, Dublin 1, Ireland
END:VEVENT
END:VCALENDAR
