BEGIN:VCALENDAR
VERSION:2.0
PRODID:-//The College of Psychiatrists of Ireland
CALSCALE:GREGORIAN
METHOD:PUBLISH
X-WR-CALNAME:The College of Psychiatrists of Ireland
X-ORIGINAL-URL:https://apps.irishpsychiatry.ie/product/waterford-wexford-psychiatry-meeting-litigation-management-and-the-coroners-inquest/
X-WR-CALDESC:Waterford Wexford Psychiatry meeting &#8211; Litigation Management and the Coroner’s Inquest
BEGIN:VEVENT
DTSTART:20180914T084500
DTEND:20180914T181500
SUMMARY:Waterford Wexford Psychiatry meeting &#8211; Litigation Management and the Coroner’s Inquest
DESCRIPTION:
LOCATION:University Hospital Waterford
END:VEVENT
END:VCALENDAR
