BEGIN:VCALENDAR
VERSION:2.0
PRODID:-//The College of Psychiatrists of Ireland
CALSCALE:GREGORIAN
METHOD:PUBLISH
X-WR-CALNAME:The College of Psychiatrists of Ireland
X-ORIGINAL-URL:https://apps.irishpsychiatry.ie/product/faculty-of-academic-psychiatry-7/
X-WR-CALDESC:Faculty of Academic Psychiatry
BEGIN:VEVENT
DTSTART:20200123T120000
DTEND:20200123T130000
SUMMARY:Faculty of Academic Psychiatry
DESCRIPTION:
LOCATION:5 Herbert Street, Dublin 2, Ireland
END:VEVENT
END:VCALENDAR
