BEGIN:VCALENDAR
VERSION:2.0
PRODID:-//The College of Psychiatrists of Ireland
CALSCALE:GREGORIAN
METHOD:PUBLISH
X-WR-CALNAME:The College of Psychiatrists of Ireland
X-ORIGINAL-URL:https://apps.irishpsychiatry.ie/product/webinar-when-patients-refuse/
X-WR-CALDESC:Webinar: When patients refuse COVID-19 testing, quarantine, and social distancing in inpatient psychiatry: clinical and ethical challenges
BEGIN:VEVENT
DTSTART:20201002T123000
DTEND:20201002T133000
SUMMARY:Webinar: When patients refuse COVID-19 testing, quarantine, and social distancing in inpatient psychiatry: clinical and ethical challenges
DESCRIPTION:
LOCATION:
END:VEVENT
END:VCALENDAR
