BEGIN:VCALENDAR
VERSION:2.0
PRODID:-//The College of Psychiatrists of Ireland
CALSCALE:GREGORIAN
METHOD:PUBLISH
X-WR-CALNAME:The College of Psychiatrists of Ireland
X-ORIGINAL-URL:https://apps.irishpsychiatry.ie/product/dotmd2019/
X-WR-CALDESC:#dotMD19
BEGIN:VEVENT
DTSTART:20190913T090000
DTEND:20190914T170000
SUMMARY:#dotMD19
DESCRIPTION:
LOCATION:National University of Ireland Galway, University Road, Galway, Ireland
END:VEVENT
END:VCALENDAR
