BEGIN:VCALENDAR
VERSION:2.0
PRODID:-//The College of Psychiatrists of Ireland
CALSCALE:GREGORIAN
METHOD:PUBLISH
X-WR-CALNAME:The College of Psychiatrists of Ireland
X-ORIGINAL-URL:https://apps.irishpsychiatry.ie/product/echo-extension-for-community-healthcare-outcomes-for-children-adolescents-with-mental-health-disorders/
X-WR-CALDESC:ECHO: Extension for Community Healthcare Outcomes for Children &#038; Adolescents with Mental Health Disorders
BEGIN:VEVENT
DTSTART:20190628T093000
DTEND:20190628T130000
SUMMARY:ECHO: Extension for Community Healthcare Outcomes for Children &#038; Adolescents with Mental Health Disorders
DESCRIPTION:
LOCATION:Lucena Clinic Rathgar Entrance, Orwell Road, Dublin 6, Ireland
END:VEVENT
END:VCALENDAR
