BEGIN:VCALENDAR
VERSION:2.0
PRODID:-//The College of Psychiatrists of Ireland
CALSCALE:GREGORIAN
METHOD:PUBLISH
X-WR-CALNAME:The College of Psychiatrists of Ireland
X-ORIGINAL-URL:https://apps.irishpsychiatry.ie/product/mental-health-act-2001-induction-training-for-mental-health-tribunal-new-panel-members/
X-WR-CALDESC:Mental Health Act 2001 Induction Training for Mental Health Tribunal New Panel Members
BEGIN:VEVENT
DTSTART:20191128T090000
DTEND:20191128T170000
SUMMARY:Mental Health Act 2001 Induction Training for Mental Health Tribunal New Panel Members
DESCRIPTION:
LOCATION:Mental Health Commission, Waterloo Road, Dublin, Ireland
END:VEVENT
END:VCALENDAR
