BEGIN:VCALENDAR
VERSION:2.0
PRODID:-//The College of Psychiatrists of Ireland
CALSCALE:GREGORIAN
METHOD:PUBLISH
X-WR-CALNAME:The College of Psychiatrists of Ireland
X-ORIGINAL-URL:https://apps.irishpsychiatry.ie/product/gender-identity-skills-training-gist-4/
X-WR-CALDESC:Gender Identity Skills Training (GIST)
BEGIN:VEVENT
DTSTART:20191127T093000
DTEND:20191129T130000
SUMMARY:Gender Identity Skills Training (GIST)
DESCRIPTION:
LOCATION:Hotel Kilkenny, College Road, Sugarloafhill, Kilkenny, Ireland
END:VEVENT
END:VCALENDAR
