BEGIN:VCALENDAR
VERSION:2.0
PRODID:-//The College of Psychiatrists of Ireland
CALSCALE:GREGORIAN
METHOD:PUBLISH
X-WR-CALNAME:The College of Psychiatrists of Ireland
X-ORIGINAL-URL:https://apps.irishpsychiatry.ie/product/monetary-impact-of-mental-illness-conversations-that-matter-in-signposting/
X-WR-CALDESC:Monetary Impact of Mental Illness: Conversations that Matter in Signposting
BEGIN:VEVENT
DTSTART:20200123T000000
DTEND:20200123T000000
SUMMARY:Monetary Impact of Mental Illness: Conversations that Matter in Signposting
DESCRIPTION:
LOCATION:Ashling Hotel, Parkgate Street, Stoneybatter, Dublin 8, Ireland
END:VEVENT
END:VCALENDAR
