BEGIN:VCALENDAR
VERSION:2.0
PRODID:-//The College of Psychiatrists of Ireland
CALSCALE:GREGORIAN
METHOD:PUBLISH
X-WR-CALNAME:The College of Psychiatrists of Ireland
X-ORIGINAL-URL:https://apps.irishpsychiatry.ie/product/caring-for-a-loved-one-with-an-eating-disorder-the-new-maudsley-skills-training/
X-WR-CALDESC:Caring for a Loved One with an Eating Disorder: The New Maudsley Skills Training
BEGIN:VEVENT
DTSTART:20200123T093000
DTEND:20200125T150000
SUMMARY:Caring for a Loved One with an Eating Disorder: The New Maudsley Skills Training
DESCRIPTION:
LOCATION:Lucena Clinic, Rathgar, Orwell Road, Rathfarnham, Dublin 6, Ireland
END:VEVENT
END:VCALENDAR
