BEGIN:VCALENDAR
VERSION:2.0
PRODID:-//The College of Psychiatrists of Ireland
CALSCALE:GREGORIAN
METHOD:PUBLISH
X-WR-CALNAME:The College of Psychiatrists of Ireland
X-ORIGINAL-URL:https://apps.irishpsychiatry.ie/product/osce-3/
X-WR-CALDESC:OSCE 3
BEGIN:VEVENT
DTSTART:
DTEND:
SUMMARY:OSCE 3
DESCRIPTION:
LOCATION:
END:VEVENT
END:VCALENDAR
