BEGIN:VCALENDAR
VERSION:2.0
PRODID:-//The College of Psychiatrists of Ireland
CALSCALE:GREGORIAN
METHOD:PUBLISH
X-WR-CALNAME:The College of Psychiatrists of Ireland
X-ORIGINAL-URL:https://apps.irishpsychiatry.ie/product/the-international-society-for-psychological-and-social-approaches-to-psychosis-conference/
X-WR-CALDESC:20th ISPS International Congress in the UK
BEGIN:VEVENT
DTSTART:20170830T000000
DTEND:20170903T000000
SUMMARY:20th ISPS International Congress in the UK
DESCRIPTION:
LOCATION:
END:VEVENT
END:VCALENDAR
