BEGIN:VCALENDAR
VERSION:2.0
PRODID:-//The College of Psychiatrists of Ireland
CALSCALE:GREGORIAN
METHOD:PUBLISH
X-WR-CALNAME:The College of Psychiatrists of Ireland
X-ORIGINAL-URL:https://apps.irishpsychiatry.ie/product/22nd-annual-napicu-conference/
X-WR-CALDESC:22nd Annual NAPICU Conference
BEGIN:VEVENT
DTSTART:20170907T083000
DTEND:20170908T150000
SUMMARY:22nd Annual NAPICU Conference
DESCRIPTION:
LOCATION:Trinity College, Dublin, Ireland
END:VEVENT
END:VCALENDAR
