BEGIN:VCALENDAR
VERSION:2.0
PRODID:-//The College of Psychiatrists of Ireland
CALSCALE:GREGORIAN
METHOD:PUBLISH
X-WR-CALNAME:The College of Psychiatrists of Ireland
X-ORIGINAL-URL:https://apps.irishpsychiatry.ie/product/waterford-wexford-psychiatry-meeting-capacity-update-and-report-writing/
X-WR-CALDESC:Waterford Wexford Psychiatry meeting &#8211; Capacity update and Report Writing
BEGIN:VEVENT
DTSTART:20170908T083000
DTEND:20170908T170000
SUMMARY:Waterford Wexford Psychiatry meeting &#8211; Capacity update and Report Writing
DESCRIPTION:
LOCATION:University Hospital Waterford
END:VEVENT
END:VCALENDAR
