BEGIN:VCALENDAR
VERSION:2.0
PRODID:-//The College of Psychiatrists of Ireland
CALSCALE:GREGORIAN
METHOD:PUBLISH
X-WR-CALNAME:The College of Psychiatrists of Ireland
X-ORIGINAL-URL:https://apps.irishpsychiatry.ie/product/27th-saint-john-of-god-research-and-evaluation-study-day/
X-WR-CALDESC:27th Saint John of God Research and Evaluation Study Day
BEGIN:VEVENT
DTSTART:20171114T090000
DTEND:20171114T153000
SUMMARY:27th Saint John of God Research and Evaluation Study Day
DESCRIPTION:
LOCATION:Saint John of God Hospital, Dublin, Ireland
END:VEVENT
END:VCALENDAR
