BEGIN:VCALENDAR
VERSION:2.0
PRODID:-//The College of Psychiatrists of Ireland
CALSCALE:GREGORIAN
METHOD:PUBLISH
X-WR-CALNAME:The College of Psychiatrists of Ireland
X-ORIGINAL-URL:https://apps.irishpsychiatry.ie/product/expert-witness-training-workshop/
X-WR-CALDESC:&#8216;Expert Witness Training Workshop
BEGIN:VEVENT
DTSTART:20170621T163000
DTEND:20170621T180000
SUMMARY:&#8216;Expert Witness Training Workshop
DESCRIPTION:
LOCATION:
END:VEVENT
END:VCALENDAR
