BEGIN:VCALENDAR
VERSION:2.0
PRODID:-//The College of Psychiatrists of Ireland
CALSCALE:GREGORIAN
METHOD:PUBLISH
X-WR-CALNAME:The College of Psychiatrists of Ireland
X-ORIGINAL-URL:https://apps.irishpsychiatry.ie/product/compassion-focused-therapy-for-groups-workshop/
X-WR-CALDESC:Compassion Focused Therapy for Groups Workshop
BEGIN:VEVENT
DTSTART:20170614T090000
DTEND:20170616T170000
SUMMARY:Compassion Focused Therapy for Groups Workshop
DESCRIPTION:
LOCATION:The Compassionate Mind Foundation, Full Street, Derby, United Kingdom
END:VEVENT
END:VCALENDAR
