BEGIN:VCALENDAR
VERSION:2.0
PRODID:-//The College of Psychiatrists of Ireland
CALSCALE:GREGORIAN
METHOD:PUBLISH
X-WR-CALNAME:The College of Psychiatrists of Ireland
X-ORIGINAL-URL:https://apps.irishpsychiatry.ie/product/isad-2017-2017-meeting-perspectives-on-anxiety-mood-disorders/
X-WR-CALDESC:ISAD 2017 &#8211; 2017 Meeting: Perspectives on Anxiety &#038; Mood Disorders
BEGIN:VEVENT
DTSTART:20170706T090000
DTEND:20170707T163000
SUMMARY:ISAD 2017 &#8211; 2017 Meeting: Perspectives on Anxiety &#038; Mood Disorders
DESCRIPTION:
LOCATION:
END:VEVENT
END:VCALENDAR
