BEGIN:VCALENDAR
VERSION:2.0
PRODID:-//The College of Psychiatrists of Ireland
CALSCALE:GREGORIAN
METHOD:PUBLISH
X-WR-CALNAME:The College of Psychiatrists of Ireland
X-ORIGINAL-URL:https://apps.irishpsychiatry.ie/product/mentalization-based-treatment-basic-training/
X-WR-CALDESC:Mentalization &#8211; Based Treatment: Basic Training
BEGIN:VEVENT
DTSTART:20170710T090000
DTEND:20170712T163000
SUMMARY:Mentalization &#8211; Based Treatment: Basic Training
DESCRIPTION:
LOCATION:Anna Freud National Centre for Children and Families, Maresfield Gardens, London, United Kingdom
END:VEVENT
END:VCALENDAR
