BEGIN:VCALENDAR
VERSION:2.0
PRODID:-//The College of Psychiatrists of Ireland
CALSCALE:GREGORIAN
METHOD:PUBLISH
X-WR-CALNAME:The College of Psychiatrists of Ireland
X-ORIGINAL-URL:https://apps.irishpsychiatry.ie/product/grof-transpersonal-training-spiritual-emergency-embracing-unexpected-transformation/
X-WR-CALDESC:GROF Transpersonal Training &#8220;Spiritual Emergency: Embracing Unexpected Transformation&#8221;
BEGIN:VEVENT
DTSTART:20170819T090000
DTEND:20170824T130000
SUMMARY:GROF Transpersonal Training &#8220;Spiritual Emergency: Embracing Unexpected Transformation&#8221;
DESCRIPTION:
LOCATION:
END:VEVENT
END:VCALENDAR
