BEGIN:VCALENDAR
VERSION:2.0
PRODID:-//The College of Psychiatrists of Ireland
CALSCALE:GREGORIAN
METHOD:PUBLISH
X-WR-CALNAME:The College of Psychiatrists of Ireland
X-ORIGINAL-URL:https://apps.irishpsychiatry.ie/product/8610/
X-WR-CALDESC:GROF Transpersonal Training “The Power of Trust and Connection: Transforming Through Compassion&#8221;.
BEGIN:VEVENT
DTSTART:20170826T090000
DTEND:20170831T120000
SUMMARY:GROF Transpersonal Training “The Power of Trust and Connection: Transforming Through Compassion&#8221;.
DESCRIPTION:
LOCATION:
END:VEVENT
END:VCALENDAR
