BEGIN:VCALENDAR
VERSION:2.0
PRODID:-//The College of Psychiatrists of Ireland
CALSCALE:GREGORIAN
METHOD:PUBLISH
X-WR-CALNAME:The College of Psychiatrists of Ireland
X-ORIGINAL-URL:https://apps.irishpsychiatry.ie/product/8614/
X-WR-CALDESC:Mentalization-Based Treatment: Antisocial Personality Disorder.
BEGIN:VEVENT
DTSTART:20170911T090000
DTEND:20170913T143000
SUMMARY:Mentalization-Based Treatment: Antisocial Personality Disorder.
DESCRIPTION:
LOCATION:
END:VEVENT
END:VCALENDAR
