BEGIN:VCALENDAR
VERSION:2.0
PRODID:-//The College of Psychiatrists of Ireland
CALSCALE:GREGORIAN
METHOD:PUBLISH
X-WR-CALNAME:The College of Psychiatrists of Ireland
X-ORIGINAL-URL:https://apps.irishpsychiatry.ie/product/recovering-lives-in-mental-illness-the-new-medical-model-for-psychiatry-2/
X-WR-CALDESC:‘Recovery’: Embracing the Challenges – Approach for Psychiatry? LIMERICK
BEGIN:VEVENT
DTSTART:20180228T090000
DTEND:20180228T160000
SUMMARY:‘Recovery’: Embracing the Challenges – Approach for Psychiatry? LIMERICK
DESCRIPTION:
LOCATION:Clayton Hotel Limerick, Limerick, Ireland
END:VEVENT
END:VCALENDAR
