BEGIN:VCALENDAR
VERSION:2.0
PRODID:-//The College of Psychiatrists of Ireland
CALSCALE:GREGORIAN
METHOD:PUBLISH
X-WR-CALNAME:The College of Psychiatrists of Ireland
X-ORIGINAL-URL:https://apps.irishpsychiatry.ie/product/train-the-trainer-session-limerick-7th-march-2018/
X-WR-CALDESC:Train the Trainer Session &#8211; Limerick, 7th March 2018
BEGIN:VEVENT
DTSTART:20180307T173000
DTEND:20180307T193000
SUMMARY:Train the Trainer Session &#8211; Limerick, 7th March 2018
DESCRIPTION:
LOCATION:Clayton Hotel Limerick, Steamboat Quay, Limerick, Ireland
END:VEVENT
END:VCALENDAR
