BEGIN:VCALENDAR
VERSION:2.0
PRODID:-//The College of Psychiatrists of Ireland
CALSCALE:GREGORIAN
METHOD:PUBLISH
X-WR-CALNAME:The College of Psychiatrists of Ireland
X-ORIGINAL-URL:https://apps.irishpsychiatry.ie/product/faculty-of-liaison-psychiatry-5/
X-WR-CALDESC:Faculty of Liaison Psychiatry
BEGIN:VEVENT
DTSTART:20190913T080000
DTEND:20190913T130000
SUMMARY:Faculty of Liaison Psychiatry
DESCRIPTION:
LOCATION:Galway, Ireland
END:VEVENT
END:VCALENDAR
