BEGIN:VCALENDAR
VERSION:2.0
PRODID:-//The College of Psychiatrists of Ireland
CALSCALE:GREGORIAN
METHOD:PUBLISH
X-WR-CALNAME:The College of Psychiatrists of Ireland
X-ORIGINAL-URL:https://apps.irishpsychiatry.ie/product/a-one-day-introduction-to-positive-behaviour-support-using-multi-element-behaviour-support-2/
X-WR-CALDESC:A One Day Introduction to Positive Behaviour Support using Multi Element Behaviour Support
BEGIN:VEVENT
DTSTART:20180711T093000
DTEND:20180711T163000
SUMMARY:A One Day Introduction to Positive Behaviour Support using Multi Element Behaviour Support
DESCRIPTION:
LOCATION:Callan Institute, Saint John of God Community Services Clg
END:VEVENT
END:VCALENDAR
